BEGIN:VCALENDAR
VERSION:2.0
PRODID:-//THE DAVID BOULEY LIVING PANTRY FOUNDATION - ECPv5.14.2.1//NONSGML v1.0//EN
CALSCALE:GREGORIAN
METHOD:PUBLISH
X-WR-CALNAME:THE DAVID BOULEY LIVING PANTRY FOUNDATION
X-ORIGINAL-URL:https://davidbouley.com
X-WR-CALDESC:Events for THE DAVID BOULEY LIVING PANTRY FOUNDATION
BEGIN:VTIMEZONE
TZID:America/New_York
BEGIN:DAYLIGHT
TZOFFSETFROM:-0500
TZOFFSETTO:-0400
TZNAME:EDT
DTSTART:20190310T070000
END:DAYLIGHT
BEGIN:STANDARD
TZOFFSETFROM:-0400
TZOFFSETTO:-0500
TZNAME:EST
DTSTART:20191103T060000
END:STANDARD
END:VTIMEZONE
BEGIN:VEVENT
DTSTART;TZID=America/New_York:20190714T130000
DTEND;TZID=America/New_York:20190714T160000
DTSTAMP:20260421T153427
CREATED:20190518T185253Z
LAST-MODIFIED:20190715T020413Z
UID:16603-1563109200-1563120000@davidbouley.com
SUMMARY:Bouley Bastille Day Gypsy Jazz Brunch
DESCRIPTION:We invite to you to an afternoon of celebration: La Fete Nationale! Join us for Bouley’s Bastille Day Gypsy Jazz Brunch Soirée with The Luke Hendon Acoustic Combo\, on Sunday afternoon\, July 14th\, 2019\, 1:00 – 4:00PM at Bouley Test Kitchen. \nCelebrate La Fête Nationale with jazz manouche – live gypsy jazz – and savoring Chef David Bouley’s French nouvelle brunch cuisine. Delight in signature passed canapes\, charcuterie\, French cheese by Master French Craftsman Rodolphe Le Meunier\, Bouley baked breads and desserts by Chef Etienne Le Bastard. Experience live cooking demonstrations and a special French wine program for la fête nationale. Liberté\, égalité\, fraternité! \nEnjoy Brunch Items Including Poached Eggs\, Buckwheat Blini\, Salmon Rosti\, Osetra Golden Caviar\, Organic Waffles with Chestnut Honey\, Smoked Sturgeon\, Spinach Puree\, Poached Quail Eggs\, Non-Gluten Nicoise Tarte and many more. \n \nThe Luke Hendon Acoustic Combo\nA jazz quartet inspired by Django Reinhardt and Jazz Manouche (aka Gypsy Jazz) but they have their own unique\, modern sound. Hendon’s last album has been described as “an homage to Django’s influence accompanied by Luke’s statement of independent creativity.” \nSteven Cerra\, Jazz Profiles Mark Keresman of The New York City Jazz Record puts it like this\, “Hendon’s take on the style is to inject some very modern energy along with judiciously placed non-jazz undertones. That’s the crucial difference between maintaining and enriching a legacy.”  It’s a show not to be missed. \n$95 + (Event Service and Tax.) Menu is subject to change. \n 
URL:https://davidbouley.com/event/bouley-celebrates-bastille-day-la-fete-nationale/
LOCATION:Bouley Test Kitchen\, 31 West 21st St\, New York\, NY\, 10010\, United States
CATEGORIES:Past Events
ATTACH;FMTTYPE=image/jpeg:https://davidbouley.com/b-at-home/wp-content/uploads/2019/05/Bouley-Summer-bastille-jazz.jpg
END:VEVENT
END:VCALENDAR