BEGIN:VCALENDAR
VERSION:2.0
PRODID:-//THE DAVID BOULEY LIVING PANTRY FOUNDATION - ECPv5.14.2.1//NONSGML v1.0//EN
CALSCALE:GREGORIAN
METHOD:PUBLISH
X-WR-CALNAME:THE DAVID BOULEY LIVING PANTRY FOUNDATION
X-ORIGINAL-URL:https://davidbouley.com
X-WR-CALDESC:Events for THE DAVID BOULEY LIVING PANTRY FOUNDATION
BEGIN:VTIMEZONE
TZID:America/New_York
BEGIN:DAYLIGHT
TZOFFSETFROM:-0500
TZOFFSETTO:-0400
TZNAME:EDT
DTSTART:20180311T070000
END:DAYLIGHT
BEGIN:STANDARD
TZOFFSETFROM:-0400
TZOFFSETTO:-0500
TZNAME:EST
DTSTART:20181104T060000
END:STANDARD
END:VTIMEZONE
BEGIN:VEVENT
DTSTART;TZID=America/New_York:20181108T190000
DTEND;TZID=America/New_York:20181108T220000
DTSTAMP:20260424T170049
CREATED:20181019T023118Z
LAST-MODIFIED:20181109T054329Z
UID:1635-1541703600-1541714400@davidbouley.com
SUMMARY:Bodegas Osborne VORS and RARE Multi-Course Sherry Pairing Dinner by David Bouley
DESCRIPTION:Thurs\, Nov 8\, 7:00pm\, Join us at Bouley Test Kitchen for multi-course dinner created by Chef David Bouley to pair perfectly with Bodegas Osborne VORS and RARE Sherry. \nOsborne will be showing all VORS and RARE: \n\n\nThe origin of Osborne\, The “cathedral” of Sherry. \nSince 1772\, the year in which Thomas Osborne Mann founded Osborne in El Puerto de Santa María\, his knowledge\, and skill in the production of brandies have been assiduously refined over the passing of the years. \n                                                                                                 \nSince those origins we have inherited the very pillars of this incomparable legacy\, our bodegas\, monumental buildings well over a century old and situated in a unique enclave where they are known as “cathedrals” thanks to their height\, their arches\, and their layout. \nThis is a very rich legacy indeed.
URL:https://davidbouley.com/event/osborne-vors-rare/
LOCATION:Bouley Test Kitchen\, 31 West 21st St\, New York\, NY\, 10010\, United States
CATEGORIES:Past Events
ATTACH;FMTTYPE=image/jpeg:https://davidbouley.com/b-at-home/wp-content/uploads/2018/10/osborne-sherrry-tasting-dinner.jpg
END:VEVENT
END:VCALENDAR